BEGIN:VCALENDAR
VERSION:2.0
PRODID:-//wp-events-plugin.com//7.2.3.1//EN
BEGIN:VEVENT
UID:61@memokonzerte.de
DTSTART;TZID=Europe/Berlin:20170525T103000
DTEND;TZID=Europe/Berlin:20170525T111500
DTSTAMP:20240722T132715Z
URL:https://memokonzerte.de/veranstaltungen/christi-himmelfahrt-2/
SUMMARY:Christi Himmelfahrt
DESCRIPTION:Christi Himmelfahrt\n\n 	W. Menschick: „Missa de Angelis“\
 n 	Chorsätze zeitgenössischer Komponisten\n\nKirchenchor der Stadtpfarre
 i\nLeitung und Orgel: Max Penger
CATEGORIES:2017
LOCATION:Spitalkirche Pfaffenhofen\, Hauptplatz 34\, Pfaffenhofen a. d. Ilm
 \, Bayern\, 85276\, Deutschland
X-APPLE-STRUCTURED-LOCATION;VALUE=URI;X-ADDRESS=Hauptplatz 34\, Pfaffenhofe
 n a. d. Ilm\, Bayern\, 85276\, Deutschland;X-APPLE-RADIUS=100;X-TITLE=Spit
 alkirche Pfaffenhofen:geo:0,0
END:VEVENT
BEGIN:VTIMEZONE
TZID:Europe/Berlin
X-LIC-LOCATION:Europe/Berlin
BEGIN:DAYLIGHT
DTSTART:20170326T030000
TZOFFSETFROM:+0100
TZOFFSETTO:+0200
TZNAME:CEST
END:DAYLIGHT
END:VTIMEZONE
END:VCALENDAR