BEGIN:VCALENDAR
VERSION:2.0
PRODID:-//wp-events-plugin.com//7.2.3.1//EN
BEGIN:VEVENT
UID:74@memokonzerte.de
DTSTART;TZID=Europe/Berlin:20190728T114500
DTEND;TZID=Europe/Berlin:20190728T123000
DTSTAMP:20240730T122119Z
URL:https://memokonzerte.de/veranstaltungen/franz-schubert-missa-in-g-fuer
 -soli-chor-und-orchester/
SUMMARY:Franz Schubert: „Missa in G“ für Soli\, Chor und Orchester
DESCRIPTION:„Missa in G“ für Soli\, Chor und Orchester\nW. A. Mozart:
  Kirchensonate – Kyrie (Schubert) – Gloria (Schubert) – E.Grieg: „
 Ave maris stella“ für 8-stimmigen Chor – Credo (Schubert) – Sanctus
  (Schubert) – Benedictus (Schubert) – Agnus Die (Schubert) – F. Bieb
 l: „Ave Maria“ für Soli und 7-stimmigen Chor – W. A. Mozart: Kirche
 nsonate\nAusführende:\nDoris Brummer\, Sopran\nCarola Reim\, Alt\nMarkus 
 Wagner\, Tenor\nNikolai Ardey\, Bass\nKammerchor „A-cappella-nova“\nKa
 mmerorchester St. Johannes\nLeitung: Max Penger\n[gallery size="large" ids
 ="611"]
CATEGORIES:2019
LOCATION:Spitalkirche Pfaffenhofen\, Hauptplatz 34\, Pfaffenhofen a. d. Ilm
 \, Bayern\, 85276\, Deutschland
X-APPLE-STRUCTURED-LOCATION;VALUE=URI;X-ADDRESS=Hauptplatz 34\, Pfaffenhofe
 n a. d. Ilm\, Bayern\, 85276\, Deutschland;X-APPLE-RADIUS=100;X-TITLE=Spit
 alkirche Pfaffenhofen:geo:0,0
END:VEVENT
BEGIN:VTIMEZONE
TZID:Europe/Berlin
X-LIC-LOCATION:Europe/Berlin
BEGIN:DAYLIGHT
DTSTART:20190331T030000
TZOFFSETFROM:+0100
TZOFFSETTO:+0200
TZNAME:CEST
END:DAYLIGHT
END:VTIMEZONE
END:VCALENDAR