BEGIN:VCALENDAR
VERSION:2.0
PRODID:-//wp-events-plugin.com//7.2.3.1//EN
BEGIN:VEVENT
UID:78@memokonzerte.de
DTSTART;TZID=Europe/Berlin:20220731T114500
DTEND;TZID=Europe/Berlin:20220731T123000
DTSTAMP:20240730T133911Z
URL:https://memokonzerte.de/veranstaltungen/j-s-bach-aria-d-dur/
SUMMARY:J. S. Bach „Aria D-Dur“
DESCRIPTION:„Aria D-Dur“\n\n 	J. S. Bach: Motette „Lobet den Herren
 “\n 	G. Rheinberger:\n 	„Elegie“ · F. Mendelssohn Bartholdy: „Mag
 nificat“\n 	G. Rheinberger: „Cantilene“\n 	F. Philipp: „Maria Himm
 elskönigin“\n 	F. Lehrndorfer: „Ich will dich lieben\, meine Stärke
 “\n 	J. S. Bach: „Largo”\n\nAusführende:\nBad Wiesseer Orgeltrio\n
 Kammerchor „A-cappella-nova“\nDr. Thomas Müller\, Violine\nDr. Johan
 na Eras\, Cello\nAgnes Ottowitz\, Orgel continuo\nThomas Laar\, Kontrabass
 \nLeitung: Max Penger\n[gallery size="large" ids="1288"]
CATEGORIES:2022
LOCATION:Spitalkirche Pfaffenhofen\, Hauptplatz 34\, Pfaffenhofen a. d. Ilm
 \, Bayern\, 85276\, Deutschland
X-APPLE-STRUCTURED-LOCATION;VALUE=URI;X-ADDRESS=Hauptplatz 34\, Pfaffenhofe
 n a. d. Ilm\, Bayern\, 85276\, Deutschland;X-APPLE-RADIUS=100;X-TITLE=Spit
 alkirche Pfaffenhofen:geo:0,0
END:VEVENT
BEGIN:VTIMEZONE
TZID:Europe/Berlin
X-LIC-LOCATION:Europe/Berlin
BEGIN:DAYLIGHT
DTSTART:20220327T030000
TZOFFSETFROM:+0100
TZOFFSETTO:+0200
TZNAME:CEST
END:DAYLIGHT
END:VTIMEZONE
END:VCALENDAR