BEGIN:VCALENDAR
VERSION:2.0
PRODID:-//wp-events-plugin.com//7.2.3.1//EN
BEGIN:VEVENT
UID:31@memokonzerte.de
DTSTART;TZID=Europe/Berlin:20160306T114500
DTEND;TZID=Europe/Berlin:20160306T121500
DTSTAMP:20240722T131027Z
URL:https://memokonzerte.de/veranstaltungen/memo-zyklus-11-studierende-aus
 -der-orgelklasse/
SUMMARY:MEMO – Zyklus 11: Studierende aus der Orgelklasse
DESCRIPTION:Studierende aus der Orgelklasse Markus Rupprecht\nvon der Hochs
 chule für Kirchenmusik Regensburg spielen\n\n 	Agustín Mejía Várgas\n 
 	J. S. Bach: Passacaglia c-moll BWV 582\n 	G. Frescobaldi: Toccata terza
  aus dem „Libro primo di Toccate“\n 	freie Improvisation\n 	E. Schnei
 der: O Lamm Gottes\, unschuldig aus dem Ansbacher Orgelbüchlein\n 	Veit
  Pitlok\n 	Improvisation über „O Lamm Gottes\, unschuldig“\n 	Max Reg
 er: Drei Choralvorspiele aus op. 67:\nO Lamm Gottes\, unschuldig\nAus tief
 er Not schrei ich zu dir\nWerde munter mein Gemüte (auch: Der am Kreuz i
 st meine Liebe)\n\nF. Mendelssohn B.: Sonate in A\, op. 65 Nr. 3\n1. Satz
  Con moto maestoso\nAgustín Mejía Várgas und Veit Pitlok\, Orgel\nVid
 eoübertragung: Andreas Breitner\, pn-Medien
CATEGORIES:2016
LOCATION:Spitalkirche Pfaffenhofen\, Hauptplatz 34\, Pfaffenhofen a. d. Ilm
 \, Bayern\, 85276\, Deutschland
X-APPLE-STRUCTURED-LOCATION;VALUE=URI;X-ADDRESS=Hauptplatz 34\, Pfaffenhofe
 n a. d. Ilm\, Bayern\, 85276\, Deutschland;X-APPLE-RADIUS=100;X-TITLE=Spit
 alkirche Pfaffenhofen:geo:0,0
END:VEVENT
BEGIN:VTIMEZONE
TZID:Europe/Berlin
X-LIC-LOCATION:Europe/Berlin
BEGIN:STANDARD
DTSTART:20151025T020000
TZOFFSETFROM:+0200
TZOFFSETTO:+0100
TZNAME:CET
END:STANDARD
END:VTIMEZONE
END:VCALENDAR