BEGIN:VCALENDAR
VERSION:2.0
PRODID:-//wp-events-plugin.com//7.2.3.1//EN
BEGIN:VEVENT
UID:71@memokonzerte.de
DTSTART;TZID=Europe/Berlin:20160325T000000
DTEND;TZID=Europe/Berlin:20160325T000000
DTSTAMP:20240723T054138Z
URL:https://memokonzerte.de/veranstaltungen/ostern-2016/
SUMMARY:Ostern 2016
DESCRIPTION:\n\n\n\nFestliche Kirchenmusik in der\nStadtpfarrkirche St. Joh
 annes Baptist\nDas Hochamt am Ostersonntag um 8.30 Uhr gestalten Solisten\
 , Kirchenchor und Kammerorchester der Katholischen Stadtpfarrei.Zur Auffü
 hrung kommt ein Stück zeitgenössischer Kirchenmusik. Joachim Schreiber\,
  Kirchenmusiker der Abtei Windberg\, schrieb die „Missa Windbergensis“
  im Auftrag des Klosters. Tonal komponierend geht Schreiber jedoch mit ein
 er erweiterten Akkordik frei um\, sie dient ganz der Textaussage\, für de
 n Gesang erfindet der Komponist aussagekräftige Melodien. Im "Kyrie" durc
 hwandert ein aufwärts führendes Motiv die Instrumentengruppen\, bis es v
 on Chor und Solisten aufgenommen und weitergeführt wird. Das "Gloria" ist
  ein einziger Jubelgesang\, wie es dem Text entspricht. Sehr bildhaft ist 
 das "Sanctus" gestaltet und das "Benedictus" ist in sanfte Musik gekleidet
 \, an dessen Ende das "Hosanna" wie das Zurückziehen der Engel in den Him
 mel wirkt. Mit pochenden Sechzehnteltriolen von Pauken und Blechbläsern b
 eginnt das ernste "Agnus Dei". Im "Dona nobis" schließt sich der Kreis de
 s Werkes durch die Wiederaufnahme des Themas aus dem „Kyrie“.Tradition
 sgemäß erklingt selbstverständlich auch Händels grandioses „Halleluj
 a“ aus dem „Messias“ und als neu einstudiertes Werk singt der Chor d
 as in unserer oberbayerischen Heimat überaus beliebte „Haec dies\, quam
  fecit Dominus“ von Caspar Ett\, der mit einer interessanten Vita ausges
 tattet ist: 1804 schloss er seine Gymnasialstudien am heutigen Wilhelmsgym
 nasium in München ab. Ett studierte am Kurfürstlichen Seminar und wurde 
 1816 Hoforganist an der Michaelskirche. Er erwarb sich Verdienste um die W
 iederbelebung der Chormusik des 16. bis 18. Jahrhunderts. Er komponierte n
 eben katholischer Kirchenmusik viele Werke für den griechisch-orthodoxen 
 und jüdischen Gottesdienst. Er war auch der Musiklehrer von König Maximi
 lian II. Des Weiteren studierte der englische Komponist Robert Lucas Pears
 all 1832 bei ihm Alte Musik und Notenkunde.\nIn Eresing wurde eine Straße
  nach Caspar Ett benannt. In München gibt es in der Innenstadt ebenfalls 
 eine Ett-Straße\, an der auch das aus zahlreichen Fernsehserien bekannte 
 Polizeipräsidium steht.\nDie Grabstätte des für die süddeutsche Musikw
 elt bedeutenden Müncheners befindet sich auf dem Alten Südlichen Friedho
 f in München (Gräberfeld 21 - Reihe 1 - Platz 18).Als Solisten sind Dori
 s Brummer (Sopran)\, Carola Reim (Alt)\, Markus Wagner (Tenor) und Fra
 nz Oppel (Bass) zu hören. Die Orchesterbesetzung garantiert ein österl
 ich festliches Klangerlebnis\, denn neben dem Streichorchester sind Flöte
 \, Oboe\, zwei Trompeten\, zwei Posaunen und Pauke besetzt. Die Leitung li
 egt bei Kirchenmusiker Max Penger.Am Ostermontag musizieren in der Familie
 nmesse um 10.30 Uhr Wolfgang Eichenseher\, Maria Stark (Trompeten)\, Matth
 ias Baunach (Posaune) und Lucas Krammer (Tuba) als das Blechbläserquartet
 t „quattro stagioni“ zusammen mit Max Penger an der Orgel.\n\n\n\n\n\n
 \n
CATEGORIES:2016
LOCATION:Spitalkirche Pfaffenhofen\, Hauptplatz 34\, Pfaffenhofen a. d. Ilm
 \, Bayern\, 85276\, Deutschland
X-APPLE-STRUCTURED-LOCATION;VALUE=URI;X-ADDRESS=Hauptplatz 34\, Pfaffenhofe
 n a. d. Ilm\, Bayern\, 85276\, Deutschland;X-APPLE-RADIUS=100;X-TITLE=Spit
 alkirche Pfaffenhofen:geo:0,0
END:VEVENT
BEGIN:VTIMEZONE
TZID:Europe/Berlin
X-LIC-LOCATION:Europe/Berlin
BEGIN:STANDARD
DTSTART:20151025T020000
TZOFFSETFROM:+0200
TZOFFSETTO:+0100
TZNAME:CET
END:STANDARD
END:VTIMEZONE
END:VCALENDAR