BEGIN:VCALENDAR
VERSION:2.0
PRODID:-//wp-events-plugin.com//7.2.3.1//EN
BEGIN:VEVENT
UID:12@memokonzerte.de
DTSTART;TZID=Europe/Berlin:20150809T114500
DTEND;TZID=Europe/Berlin:20150809T123000
DTSTAMP:20240722T122224Z
URL:https://memokonzerte.de/veranstaltungen/percussion-total/
SUMMARY:Percussion total
DESCRIPTION:„Percussion total!“\n\n 	Astor Piazzolla: „Libertango”
 \n 	Marques Telmo: „Scenes from a city“\n(Tuba und Vibraphon)\n 	Marc
  Glenworth: „Blues for Gilbert”\n 	Peter Wittrich: „Prayer on the 
 hill“\n(Vibraphon)\n 	Bach / Gounod: „Ave Maria“\n(Tuba und Vibraph
 on)\n\nMichael Leopold\, Schlagwerk\, Vibraphon\nMichael Schwarzfischer\,
  Tuba\n\nMichael Leopold – Kulturförderpreisträger der Stadt Pfaffenh
 ofen und derzeit Akademist der Münchener Philharmoniker – bestreitet am
  9. August das zweite Konzert. Zusammen mit seinem Tuba spielenden Akademi
 ekollegen Michael Schwarzfischer\, wird sein Auftritt bestimmt wieder zu e
 inem Höhepunkt des gesamten Zyklus. Unter anderem steht mit „Prayer on 
 the hill“ ein Stück des in Pfaffenhofen lebenden Komponisten Peter Witt
 rich auf dem Programm und das „Ave Maria“ von Gounod über dem C-Dur-P
 räludium Bachs von Vibraphon und Tuba gespielt sorgt sicher für Gänseha
 utgefühle.\n\nMichael Leopold\, Vibraphon und Schlagwerk\nMichael Leopol
 d studiert derzeit das Fach Schlagzeug bei Prof. Peter Sadlo an der Hochsc
 hule für Musik und Theater in München. 2007 gewann er einen 1. Preis bei
 m Bundeswettbewerb „Jugend musiziert" und 2009 erhielt er den Kulturför
 derpreis seiner Heimatstadt Pfaffenhofen a. d. Ilm. Er war Mitglied des Ba
 yrischen Landesjugendorchesters und „ATTACCA“\, dem Jugendorchester de
 r Staatsoper München. Weitere Orchestererfahrung sammelte er durch Prakti
 ka bei den Stuttgarter Philharmonikern\, dem Theater Coburg und den Münch
 ner Symphonikern. Ebenso durch Aushilfstätigkeiten bei den Hofer Symphoni
 kern\, der Niederbayrischen Philharmonie und dem bayerischen Staatsorchest
 er. Bei verschiedenen Orchester- und Kammermusikprojekten ist er regelmä
 ßig aktiv\, wie z.B. dem Festivalorchester der Carl Orff-Festspiele in An
 dechs\, dem Ensemble Classique und der Bühnenmusik der Staatsoper Münche
 n. Seit April 2014 ist er Mitglied der Orchesterakademie der Münchner Phi
 lharmoniker.\n\nMichael Schwarzfischer\, Tuba\nMichael Schwarzfischer wur
 de 1992 in Schongau geboren und begann im Alter von neun Jahren Tuba zu sp
 ielen. Seit 2011 studiert er an der Hochschule für Musik und Theater Mün
 chen bei Prof. Josef Steinböck und Thomas Walsh\, wo er zuvor bereits Jun
 gstudent war. Orchestererfahrung sammelte er unter anderem beim ODEON Juge
 ndsinfonieorchester\, den Augsburger Philharmonikern und den Münchner Sym
 phonikern. 2012 gewann Michael Schwarzfischer den ersten Preis beim intern
 ationalen Tuba Wettbewerb des Moskauer Tschaikowski Konservatoriums.\n\n[g
 allery size="large" columns="4" ids="601\,600\,599\,598\,597\,595\,596"]
CATEGORIES:2015
LOCATION:Spitalkirche Pfaffenhofen\, Hauptplatz 34\, Pfaffenhofen a. d. Ilm
 \, Bayern\, 85276\, Deutschland
X-APPLE-STRUCTURED-LOCATION;VALUE=URI;X-ADDRESS=Hauptplatz 34\, Pfaffenhofe
 n a. d. Ilm\, Bayern\, 85276\, Deutschland;X-APPLE-RADIUS=100;X-TITLE=Spit
 alkirche Pfaffenhofen:geo:0,0
END:VEVENT
BEGIN:VTIMEZONE
TZID:Europe/Berlin
X-LIC-LOCATION:Europe/Berlin
BEGIN:DAYLIGHT
DTSTART:20150329T030000
TZOFFSETFROM:+0100
TZOFFSETTO:+0200
TZNAME:CEST
END:DAYLIGHT
END:VTIMEZONE
END:VCALENDAR